BEGIN:VCALENDAR
VERSION:2.0
PRODID:-//AVT Heusden-Zolder - ECPv6.6.1//NONSGML v1.0//EN
CALSCALE:GREGORIAN
METHOD:PUBLISH
X-WR-CALNAME:AVT Heusden-Zolder
X-ORIGINAL-URL:https://avtheusdenzolder.be
X-WR-CALDESC:Evenementen voor AVT Heusden-Zolder
REFRESH-INTERVAL;VALUE=DURATION:PT1H
X-Robots-Tag:noindex
X-PUBLISHED-TTL:PT1H
BEGIN:VTIMEZONE
TZID:UTC
BEGIN:STANDARD
TZOFFSETFROM:+0000
TZOFFSETTO:+0000
TZNAME:UTC
DTSTART:20230101T000000
END:STANDARD
END:VTIMEZONE
BEGIN:VEVENT
DTSTART;VALUE=DATE:20230723
DTEND;VALUE=DATE:20230724
DTSTAMP:20260425T151742
CREATED:20230628T145243Z
LAST-MODIFIED:20230628T150648Z
UID:793-1690070400-1690156799@avtheusdenzolder.be
SUMMARY:Open meeting
DESCRIPTION:
URL:https://www.atletiek.nu/wedstrijd/main/39256/#new_tab
CATEGORIES:Wedstrijden
END:VEVENT
BEGIN:VEVENT
DTSTART;VALUE=DATE:20230715
DTEND;VALUE=DATE:20230716
DTSTAMP:20260425T151742
CREATED:20230628T133959Z
LAST-MODIFIED:20230628T145646Z
UID:758-1689379200-1689465599@avtheusdenzolder.be
SUMMARY:Nacht van de Atletiek
DESCRIPTION:
URL:https://nachtvandeatletiek.be/nl/#new_tab
CATEGORIES:Wedstrijden
END:VEVENT
BEGIN:VEVENT
DTSTART;VALUE=DATE:20230603
DTEND;VALUE=DATE:20230604
DTSTAMP:20260425T151742
CREATED:20230711T211732Z
LAST-MODIFIED:20230711T211745Z
UID:827-1685750400-1685836799@avtheusdenzolder.be
SUMMARY:Open meeting
DESCRIPTION:
URL:https://www.atletiek.nu/wedstrijd/main/39049/#new_tab
CATEGORIES:Wedstrijden
END:VEVENT
END:VCALENDAR