BEGIN:VCALENDAR
VERSION:2.0
PRODID:-//AVT Heusden-Zolder - ECPv6.6.1//NONSGML v1.0//EN
CALSCALE:GREGORIAN
METHOD:PUBLISH
X-WR-CALNAME:AVT Heusden-Zolder
X-ORIGINAL-URL:https://avtheusdenzolder.be
X-WR-CALDESC:Evenementen voor AVT Heusden-Zolder
REFRESH-INTERVAL;VALUE=DURATION:PT1H
X-Robots-Tag:noindex
X-PUBLISHED-TTL:PT1H
BEGIN:VTIMEZONE
TZID:UTC
BEGIN:STANDARD
TZOFFSETFROM:+0000
TZOFFSETTO:+0000
TZNAME:UTC
DTSTART:20240101T000000
END:STANDARD
END:VTIMEZONE
BEGIN:VEVENT
DTSTART;TZID=UTC:20250308T080000
DTEND;TZID=UTC:20250308T170000
DTSTAMP:20260425T165309
CREATED:20240925T075509Z
LAST-MODIFIED:20241003T124753Z
UID:2272-1741420800-1741453200@avtheusdenzolder.be
SUMMARY:Open meeting met jeugd
DESCRIPTION:
URL:https://www.atletiek.nu/wedstrijd/inschrijven/41702/#new_tab
CATEGORIES:Wedstrijden
END:VEVENT
BEGIN:VEVENT
DTSTART;TZID=UTC:20250305T080000
DTEND;TZID=UTC:20250305T170000
DTSTAMP:20260425T165309
CREATED:20240925T075438Z
LAST-MODIFIED:20241003T124934Z
UID:2270-1741161600-1741194000@avtheusdenzolder.be
SUMMARY:Kan/Ben indoormeeting 2
DESCRIPTION:
URL:https://www.atletiek.nu/wedstrijd/inschrijven/41701/#new_tab
CATEGORIES:Wedstrijden
END:VEVENT
BEGIN:VEVENT
DTSTART;TZID=UTC:20250222T080000
DTEND;TZID=UTC:20250222T170000
DTSTAMP:20260425T165309
CREATED:20240925T075347Z
LAST-MODIFIED:20241003T124930Z
UID:2268-1740211200-1740243600@avtheusdenzolder.be
SUMMARY:Open meeting met jeugd
DESCRIPTION:
URL:https://www.atletiek.nu/wedstrijd/inschrijven/41728/#new_tab
CATEGORIES:Wedstrijden
END:VEVENT
BEGIN:VEVENT
DTSTART;TZID=UTC:20250216T080000
DTEND;TZID=UTC:20250216T170000
DTSTAMP:20260425T165309
CREATED:20241014T142618Z
LAST-MODIFIED:20241014T142620Z
UID:2339-1739692800-1739725200@avtheusdenzolder.be
SUMMARY:Midwinterjogging (Hasselt)
DESCRIPTION:
URL:http://www.avthasselt.be/midwinterjogging.php#new_tab
CATEGORIES:Wedstrijden
END:VEVENT
BEGIN:VEVENT
DTSTART;TZID=UTC:20250215T080000
DTEND;TZID=UTC:20250215T170000
DTSTAMP:20260425T165309
CREATED:20240925T075252Z
LAST-MODIFIED:20241003T124927Z
UID:2266-1739606400-1739638800@avtheusdenzolder.be
SUMMARY:Provinciaal Kampioenschap Jeugd
DESCRIPTION:
URL:https://www.atletiek.nu/wedstrijd/inschrijven/41698/#new_tab
CATEGORIES:Wedstrijden
END:VEVENT
BEGIN:VEVENT
DTSTART;TZID=UTC:20250214T080000
DTEND;TZID=UTC:20250214T170000
DTSTAMP:20260425T165309
CREATED:20240925T084244Z
LAST-MODIFIED:20240925T084252Z
UID:2283-1739520000-1739552400@avtheusdenzolder.be
SUMMARY:Valentijn training
DESCRIPTION:Wees gerust\, de training gaat niet in teken van liefde staan. Vandaag ligt de focus op vrienschap en samenwerken.
URL:https://avtheusdenzolder.be/event/valentijn-training/
CATEGORIES:Activiteiten
END:VEVENT
BEGIN:VEVENT
DTSTART;TZID=UTC:20250208T080000
DTEND;TZID=UTC:20250208T170000
DTSTAMP:20260425T165309
CREATED:20240925T075215Z
LAST-MODIFIED:20241003T124910Z
UID:2264-1739001600-1739034000@avtheusdenzolder.be
SUMMARY:Open meeting met jeugd
DESCRIPTION:
URL:https://www.atletiek.nu/wedstrijd/inschrijven/41700/#new_tab
CATEGORIES:Wedstrijden
END:VEVENT
BEGIN:VEVENT
DTSTART;TZID=UTC:20250111T080000
DTEND;TZID=UTC:20250111T170000
DTSTAMP:20260425T165309
CREATED:20240925T075131Z
LAST-MODIFIED:20241015T080750Z
UID:2262-1736582400-1736614800@avtheusdenzolder.be
SUMMARY:Provinciaal Kampioenschap AC Dag 1
DESCRIPTION:
URL:https://www.atletiek.nu/wedstrijd/inschrijven/41699/#new_tab
CATEGORIES:Wedstrijden
END:VEVENT
BEGIN:VEVENT
DTSTART;TZID=UTC:20250108T080000
DTEND;TZID=UTC:20250108T170000
DTSTAMP:20260425T165309
CREATED:20240925T074930Z
LAST-MODIFIED:20241015T080803Z
UID:2259-1736323200-1736355600@avtheusdenzolder.be
SUMMARY:Kan/Ben indoormeeting 1
DESCRIPTION:
URL:https://www.atletiek.nu/wedstrijd/inschrijven/41706/#new_tab
CATEGORIES:Wedstrijden
END:VEVENT
BEGIN:VEVENT
DTSTART;TZID=UTC:20250103T174500
DTEND;TZID=UTC:20250103T210000
DTSTAMP:20260425T165309
CREATED:20240925T083504Z
LAST-MODIFIED:20240925T083519Z
UID:2279-1735926300-1735938000@avtheusdenzolder.be
SUMMARY:Nieuwjaar training
DESCRIPTION:Nog een beetje navieren dat het nieuwe jaar is gestart in de vorm van een training.We bieden deze dag een gluewine en/of warme choco aan een schappelijke prijs!
URL:https://avtheusdenzolder.be/event/nieuwjaar-training/
CATEGORIES:Activiteiten
END:VEVENT
BEGIN:VEVENT
DTSTART;TZID=UTC:20241227T080000
DTEND;TZID=UTC:20241227T170000
DTSTAMP:20260425T165309
CREATED:20240925T074853Z
LAST-MODIFIED:20241015T080705Z
UID:2257-1735286400-1735318800@avtheusdenzolder.be
SUMMARY:Sylvestermeeting
DESCRIPTION:
URL:https://www.atletiek.nu/wedstrijd/inschrijven/41705/#new_tab
CATEGORIES:Wedstrijden
END:VEVENT
BEGIN:VEVENT
DTSTART;TZID=UTC:20241220T080000
DTEND;TZID=UTC:20241220T170000
DTSTAMP:20260425T165309
CREATED:20240925T074818Z
LAST-MODIFIED:20241015T080701Z
UID:2255-1734681600-1734714000@avtheusdenzolder.be
SUMMARY:Kerstavondmeeting
DESCRIPTION:
URL:https://www.atletiek.nu/wedstrijd/inschrijven/41704/#new_tab
CATEGORIES:Wedstrijden
END:VEVENT
BEGIN:VEVENT
DTSTART;TZID=UTC:20241207T080000
DTEND;TZID=UTC:20241207T170000
DTSTAMP:20260425T165309
CREATED:20240925T074737Z
LAST-MODIFIED:20241015T080655Z
UID:2253-1733558400-1733590800@avtheusdenzolder.be
SUMMARY:Open meeting met jeugd
DESCRIPTION:
URL:https://www.atletiek.nu/wedstrijd/inschrijven/41703/#new_tab
CATEGORIES:Wedstrijden
END:VEVENT
BEGIN:VEVENT
DTSTART;TZID=UTC:20241206T080000
DTEND;TZID=UTC:20241206T170000
DTSTAMP:20260425T165309
CREATED:20240925T083950Z
LAST-MODIFIED:20241017T083351Z
UID:2281-1733472000-1733504400@avtheusdenzolder.be
SUMMARY:Sinterklaas training
DESCRIPTION:Training in Sinterklaas sfeer. Trainen zoals sinterklaas en zwarte piet. Door schuif systeem met spelletjes.Soep en warme drankjes verkrijgbaar voor ouders. Kindjes krijgen klein zakje snoep en een presentje. Sint komt op bezoek!
URL:https://avtheusdenzolder.be/event/sinterklaas-training/
CATEGORIES:Activiteiten
END:VEVENT
BEGIN:VEVENT
DTSTART;TZID=UTC:20241124T120000
DTEND;TZID=UTC:20241124T223000
DTSTAMP:20260425T165309
CREATED:20240925T074621Z
LAST-MODIFIED:20241024T070945Z
UID:2251-1732449600-1732487400@avtheusdenzolder.be
SUMMARY:Eetdag
DESCRIPTION:Trainers delen kaarten uit aan atleten. Extra kaarten kan je afhalen aan de toog\, bestelling kan je doen tot 19 november. \n\n\n\n\n\nKeuze menu: \n\n\n\n\nFriet biefstuk natuur € 18\n\n\n\nFriet biefstuk peperroom € 19\n\n\n\nFriet biefstuk champignonroom € 19\n\n\n\nFriet Videe € 13\n\n\n\nKoude schotel € 14\n\n\n\nFriet 1/2 haan € 12\n\n\n\nKinder friet videe € 7\n\n\n\nKinder friet hamburger € 7
URL:https://avtheusdenzolder.be/event/eetdag/
CATEGORIES:Activiteiten
ATTACH;FMTTYPE=image/jpeg:https://avtheusdenzolder.be/wp-content/uploads/2024/10/eetdag_banner.jpg
END:VEVENT
BEGIN:VEVENT
DTSTART;TZID=UTC:20241030T174500
DTEND;TZID=UTC:20241030T210000
DTSTAMP:20260425T165309
CREATED:20240925T080419Z
LAST-MODIFIED:20241017T082648Z
UID:2276-1730310300-1730322000@avtheusdenzolder.be
SUMMARY:Halloween training
DESCRIPTION:Training in Halloween sfeer. Door schuif systeem met spelletjes. Soep en warme drankjes verkrijgbaar voor ouders\, kindjes krijgen klein zakje snoep en een presentje
URL:https://avtheusdenzolder.be/event/halloween-training/
CATEGORIES:Activiteiten
ATTACH;FMTTYPE=image/jpeg:https://avtheusdenzolder.be/wp-content/uploads/2023/07/halloween.jpg
END:VEVENT
BEGIN:VEVENT
DTSTART;TZID=UTC:20241021T080000
DTEND;TZID=UTC:20241021T170000
DTSTAMP:20260425T165309
CREATED:20240926T122558Z
LAST-MODIFIED:20240926T122618Z
UID:2289-1729497600-1729530000@avtheusdenzolder.be
SUMMARY:Start2Run 5 tot 10 km
DESCRIPTION:
URL:https://www.heusden-zolder.be/start-2#new_tab
END:VEVENT
BEGIN:VEVENT
DTSTART;TZID=UTC:20240915T080000
DTEND;TZID=UTC:20240915T170000
DTSTAMP:20260425T165309
CREATED:20240503T090826Z
LAST-MODIFIED:20240503T090828Z
UID:1909-1726387200-1726419600@avtheusdenzolder.be
SUMMARY:Pater Vandenberk Jeugdmeeting
DESCRIPTION:
URL:https://athletics.app/wedstrijd/main/41126/#new_tab
CATEGORIES:Wedstrijden
END:VEVENT
BEGIN:VEVENT
DTSTART;TZID=UTC:20240915T080000
DTEND;TZID=UTC:20240915T170000
DTSTAMP:20260425T165309
CREATED:20240503T090657Z
LAST-MODIFIED:20240503T090659Z
UID:1906-1726387200-1726419600@avtheusdenzolder.be
SUMMARY:Kangoeroes/Benjamins Meeting
DESCRIPTION:
URL:https://www.athletics.app/wedstrijd/main/41132/#new_tab
CATEGORIES:Wedstrijden
END:VEVENT
BEGIN:VEVENT
DTSTART;TZID=UTC:20240810T080000
DTEND;TZID=UTC:20240810T170000
DTSTAMP:20260425T165309
CREATED:20240503T090617Z
LAST-MODIFIED:20240503T090619Z
UID:1904-1723276800-1723309200@avtheusdenzolder.be
SUMMARY:Open meeting
DESCRIPTION:
URL:https://www.athletics.app/wedstrijd/main/41124/#new_tab
CATEGORIES:Wedstrijden
END:VEVENT
BEGIN:VEVENT
DTSTART;TZID=UTC:20240731T080000
DTEND;TZID=UTC:20240731T170000
DTSTAMP:20260425T165309
CREATED:20240411T075527Z
LAST-MODIFIED:20240411T075529Z
UID:1888-1722412800-1722445200@avtheusdenzolder.be
SUMMARY:Pater Vandenberk Jeugdmeeting
DESCRIPTION:
URL:https://www.atletiek.nu/wedstrijd/main/40947/#new_tab
CATEGORIES:Wedstrijden
END:VEVENT
BEGIN:VEVENT
DTSTART;TZID=UTC:20240714T080000
DTEND;TZID=UTC:20240714T170000
DTSTAMP:20260425T165309
CREATED:20240411T075421Z
LAST-MODIFIED:20240411T075423Z
UID:1886-1720944000-1720976400@avtheusdenzolder.be
SUMMARY:Open Meeting
DESCRIPTION:
URL:https://www.atletiek.nu/wedstrijd/main/40946/#new_tab
CATEGORIES:Wedstrijden
END:VEVENT
BEGIN:VEVENT
DTSTART;TZID=UTC:20240701T080000
DTEND;TZID=UTC:20240705T170000
DTSTAMP:20260425T165309
CREATED:20240212T110244Z
LAST-MODIFIED:20240308T155258Z
UID:1696-1719820800-1720198800@avtheusdenzolder.be
SUMMARY:Zomerkamp
DESCRIPTION:
URL:https://avtheusdenzolder.be/event/zomerkamp/
CATEGORIES:Activiteiten
END:VEVENT
BEGIN:VEVENT
DTSTART;TZID=UTC:20240602T080000
DTEND;TZID=UTC:20240602T170000
DTSTAMP:20260425T165309
CREATED:20240312T100237Z
LAST-MODIFIED:20240322T142039Z
UID:1842-1717315200-1717347600@avtheusdenzolder.be
SUMMARY:Polsstokmeeting
DESCRIPTION:
URL:https://www.atletiek.nu/wedstrijd/main/40812/#new_tab
CATEGORIES:Wedstrijden
END:VEVENT
BEGIN:VEVENT
DTSTART;TZID=UTC:20240501T080000
DTEND;TZID=UTC:20240501T170000
DTSTAMP:20260425T165309
CREATED:20240308T154822Z
LAST-MODIFIED:20240308T155221Z
UID:1824-1714550400-1714582800@avtheusdenzolder.be
SUMMARY:Pater Vandenberk Jeugdmeeting
DESCRIPTION:
URL:https://www.atletiek.nu/wedstrijd/main/40637/#new_tab
CATEGORIES:Wedstrijden
END:VEVENT
BEGIN:VEVENT
DTSTART;TZID=UTC:20240323T080000
DTEND;TZID=UTC:20240323T170000
DTSTAMP:20260425T165309
CREATED:20240131T142031Z
LAST-MODIFIED:20240131T142035Z
UID:1617-1711180800-1711213200@avtheusdenzolder.be
SUMMARY:AVT Jeugddag
DESCRIPTION:
URL:https://www.atletiek.nu/wedstrijd/main/40254/#new_tab
CATEGORIES:Wedstrijden
END:VEVENT
BEGIN:VEVENT
DTSTART;TZID=UTC:20240317T080000
DTEND;TZID=UTC:20240317T170000
DTSTAMP:20260425T165309
CREATED:20240130T082554Z
LAST-MODIFIED:20240130T082557Z
UID:1613-1710662400-1710694800@avtheusdenzolder.be
SUMMARY:VijverRun33
DESCRIPTION:
URL:https://www.heusden-zolder.be/vijverrun#new_tab
CATEGORIES:Wedstrijden
END:VEVENT
BEGIN:VEVENT
DTSTART;TZID=UTC:20240311T183000
DTEND;TZID=UTC:20240311T193000
DTSTAMP:20260425T165309
CREATED:20240212T104954Z
LAST-MODIFIED:20240212T105039Z
UID:1691-1710181800-1710185400@avtheusdenzolder.be
SUMMARY:Start 2 Run
DESCRIPTION:
URL:https://www.heusden-zolder.be/start-2#new_tab
CATEGORIES:Activiteiten
END:VEVENT
BEGIN:VEVENT
DTSTART;TZID=UTC:20240310T080000
DTEND;TZID=UTC:20240310T170000
DTSTAMP:20260425T165309
CREATED:20231128T150317Z
LAST-MODIFIED:20231128T150320Z
UID:1200-1710057600-1710090000@avtheusdenzolder.be
SUMMARY:Open meeting met jeugd
DESCRIPTION:
URL:https://www.atletiek.nu/wedstrijd/inschrijven/40031/#new_tab
CATEGORIES:Wedstrijden
END:VEVENT
BEGIN:VEVENT
DTSTART;TZID=UTC:20240306T080000
DTEND;TZID=UTC:20240306T170000
DTSTAMP:20260425T165309
CREATED:20231128T150102Z
LAST-MODIFIED:20231128T150105Z
UID:1196-1709712000-1709744400@avtheusdenzolder.be
SUMMARY:Kan/Ben indoormeeting 2
DESCRIPTION:
URL:https://www.atletiek.nu/wedstrijd/inschrijven/40030/#new_tab
CATEGORIES:Wedstrijden
END:VEVENT
END:VCALENDAR