BEGIN:VCALENDAR
VERSION:2.0
PRODID:-//AVT Heusden-Zolder - ECPv6.6.1//NONSGML v1.0//EN
CALSCALE:GREGORIAN
METHOD:PUBLISH
X-ORIGINAL-URL:https://avtheusdenzolder.be
X-WR-CALDESC:Evenementen voor AVT Heusden-Zolder
REFRESH-INTERVAL;VALUE=DURATION:PT1H
X-Robots-Tag:noindex
X-PUBLISHED-TTL:PT1H
BEGIN:VTIMEZONE
TZID:UTC
BEGIN:STANDARD
TZOFFSETFROM:+0000
TZOFFSETTO:+0000
TZNAME:UTC
DTSTART:20250101T000000
END:STANDARD
END:VTIMEZONE
BEGIN:VEVENT
DTSTART;TZID=UTC:20250928T140000
DTEND;TZID=UTC:20250928T140000
DTSTAMP:20260425T123214
CREATED:20250328T144450Z
LAST-MODIFIED:20250401T145851Z
UID:2963-1759068000-1759068000@avtheusdenzolder.be
SUMMARY:Pater Vandenberk jeugdmeeting
DESCRIPTION:
URL:https://avtheusdenzolder.be/event/pater-vandenberk-jeugdmeeting-9/
CATEGORIES:Kern wedstrijden
END:VEVENT
BEGIN:VEVENT
DTSTART;TZID=UTC:20250928T103000
DTEND;TZID=UTC:20250928T103000
DTSTAMP:20260425T123214
CREATED:20250328T144450Z
LAST-MODIFIED:20250401T145851Z
UID:2962-1759055400-1759055400@avtheusdenzolder.be
SUMMARY:KAN/BEN meeting
DESCRIPTION:
URL:https://avtheusdenzolder.be/event/kan-ben-meeting/
CATEGORIES:Kern wedstrijden
END:VEVENT
BEGIN:VEVENT
DTSTART;TZID=UTC:20250817T140000
DTEND;TZID=UTC:20250817T140000
DTSTAMP:20260425T123214
CREATED:20250328T144449Z
LAST-MODIFIED:20250730T124741Z
UID:2961-1755439200-1755439200@avtheusdenzolder.be
SUMMARY:O̶p̶e̶n̶ ̶m̶e̶e̶t̶i̶n̶g̶
DESCRIPTION:
URL:https://avtheusdenzolder.be/event/open-meeting-7/
CATEGORIES:Kern wedstrijden
END:VEVENT
BEGIN:VEVENT
DTSTART;TZID=UTC:20250809T140000
DTEND;TZID=UTC:20250809T140000
DTSTAMP:20260425T123214
CREATED:20250328T144250Z
LAST-MODIFIED:20250401T145835Z
UID:2960-1754748000-1754748000@avtheusdenzolder.be
SUMMARY:Pater Vandenberk Jeugdmeeting
DESCRIPTION:
URL:https://avtheusdenzolder.be/event/pater-vandenberk-jeugdmeeting-8/
CATEGORIES:Kern wedstrijden
END:VEVENT
BEGIN:VEVENT
DTSTART;TZID=UTC:20250730T180000
DTEND;TZID=UTC:20250730T180000
DTSTAMP:20260425T123214
CREATED:20250328T144250Z
LAST-MODIFIED:20250401T145835Z
UID:2959-1753898400-1753898400@avtheusdenzolder.be
SUMMARY:Pater Vandenberk Jeugdmeeting
DESCRIPTION:
URL:https://avtheusdenzolder.be/event/pater-vandenberk-jeugdmeeting-7/
CATEGORIES:Kern wedstrijden
END:VEVENT
BEGIN:VEVENT
DTSTART;TZID=UTC:20250719T130000
DTEND;TZID=UTC:20250719T130000
DTSTAMP:20260425T123214
CREATED:20250328T144250Z
LAST-MODIFIED:20250401T143043Z
UID:2958-1752930000-1752930000@avtheusdenzolder.be
SUMMARY:WACT Bronze - Nacht van de Atletiek
DESCRIPTION:
URL:https://avtheusdenzolder.be/event/wact-bronze-nacht-van-de-atletiek/
CATEGORIES:Kern wedstrijden
END:VEVENT
BEGIN:VEVENT
DTSTART;TZID=UTC:20250712T133000
DTEND;TZID=UTC:20250712T133000
DTSTAMP:20260425T123214
CREATED:20250328T144219Z
LAST-MODIFIED:20250401T143043Z
UID:2950-1752327000-1752327000@avtheusdenzolder.be
SUMMARY:Polsstokmeeting
DESCRIPTION:
URL:https://avtheusdenzolder.be/event/polsstokmeeting-2/
CATEGORIES:Kern wedstrijden
END:VEVENT
BEGIN:VEVENT
DTSTART;TZID=UTC:20250529T100000
DTEND;TZID=UTC:20250529T100000
DTSTAMP:20260425T123214
CREATED:20250328T144249Z
LAST-MODIFIED:20250401T142936Z
UID:2957-1748512800-1748512800@avtheusdenzolder.be
SUMMARY:ALLIANZ KvV Alle Categorieën
DESCRIPTION:
URL:https://avtheusdenzolder.be/event/allianz-kvv-alle-categorieen/
CATEGORIES:Kern wedstrijden
END:VEVENT
BEGIN:VEVENT
DTSTART;TZID=UTC:20250518T100000
DTEND;TZID=UTC:20250518T100000
DTSTAMP:20260425T123214
CREATED:20250328T144249Z
LAST-MODIFIED:20250401T142934Z
UID:2956-1747562400-1747562400@avtheusdenzolder.be
SUMMARY:BVV A.C. M+V Ere-afdeling
DESCRIPTION:
URL:https://avtheusdenzolder.be/event/bvv-a-c-mv-ere-afdeling/
CATEGORIES:Kern wedstrijden
END:VEVENT
BEGIN:VEVENT
DTSTART;TZID=UTC:20250511T140000
DTEND;TZID=UTC:20250511T140000
DTSTAMP:20260425T123214
CREATED:20250328T144234Z
LAST-MODIFIED:20250401T142934Z
UID:2955-1746972000-1746972000@avtheusdenzolder.be
SUMMARY:Pater Vandenberk Jeugdmeeting
DESCRIPTION:
URL:https://avtheusdenzolder.be/event/pater-vandenberk-jeugdmeeting-6/
CATEGORIES:Kern wedstrijden
END:VEVENT
BEGIN:VEVENT
DTSTART;TZID=UTC:20250430T133000
DTEND;TZID=UTC:20250430T133000
DTSTAMP:20260425T123214
CREATED:20250328T144234Z
LAST-MODIFIED:20250401T142934Z
UID:2954-1746019800-1746019800@avtheusdenzolder.be
SUMMARY:Provinciaal Kampioenschap MOEV (Limb.)
DESCRIPTION:
URL:https://avtheusdenzolder.be/event/provinciaal-kampioenschap-moev-limb-2/
CATEGORIES:Kern wedstrijden
END:VEVENT
BEGIN:VEVENT
DTSTART;TZID=UTC:20250322T080000
DTEND;TZID=UTC:20250322T170000
DTSTAMP:20260425T123214
CREATED:20240925T075600Z
LAST-MODIFIED:20250402T080407Z
UID:2274-1742630400-1742662800@avtheusdenzolder.be
SUMMARY:AVT Jeugddag
DESCRIPTION:
URL:https://www.atletiek.nu/wedstrijd/main/41980/#new_tab
CATEGORIES:Kern wedstrijden,Wedstrijden
END:VEVENT
END:VCALENDAR