BEGIN:VCALENDAR
VERSION:2.0
PRODID:-//AVT Heusden-Zolder - ECPv6.6.1//NONSGML v1.0//EN
CALSCALE:GREGORIAN
METHOD:PUBLISH
X-ORIGINAL-URL:https://avtheusdenzolder.be
X-WR-CALDESC:Evenementen voor AVT Heusden-Zolder
REFRESH-INTERVAL;VALUE=DURATION:PT1H
X-Robots-Tag:noindex
X-PUBLISHED-TTL:PT1H
BEGIN:VTIMEZONE
TZID:UTC
BEGIN:STANDARD
TZOFFSETFROM:+0000
TZOFFSETTO:+0000
TZNAME:UTC
DTSTART:20260101T000000
END:STANDARD
END:VTIMEZONE
BEGIN:VEVENT
DTSTART;TZID=UTC:20260304T163000
DTEND;TZID=UTC:20260304T163000
DTSTAMP:20260425T135214
CREATED:20251021T074338Z
LAST-MODIFIED:20251021T074338Z
UID:3401-1772641800-1772641800@avtheusdenzolder.be
SUMMARY:Kan/ben indoormeeting
DESCRIPTION:
URL:https://avtheusdenzolder.be/event/kan-ben-indoormeeting-3/
CATEGORIES:Interne wedstrijden
END:VEVENT
BEGIN:VEVENT
DTSTART;TZID=UTC:20260313T180000
DTEND;TZID=UTC:20260313T180000
DTSTAMP:20260425T135214
CREATED:20251021T074339Z
LAST-MODIFIED:20251021T074339Z
UID:3402-1773424800-1773424800@avtheusdenzolder.be
SUMMARY:Open meeting met jeugd
DESCRIPTION:
URL:https://avtheusdenzolder.be/event/open-meeting-met-jeugd-11/
CATEGORIES:Interne wedstrijden
END:VEVENT
BEGIN:VEVENT
DTSTART;TZID=UTC:20260328T140000
DTEND;TZID=UTC:20260328T140000
DTSTAMP:20260425T135214
CREATED:20251021T074339Z
LAST-MODIFIED:20251021T074339Z
UID:3404-1774706400-1774706400@avtheusdenzolder.be
SUMMARY:AVT jeugddag
DESCRIPTION:
URL:https://avtheusdenzolder.be/event/avt-jeugddag-3/
CATEGORIES:Interne wedstrijden
END:VEVENT
BEGIN:VEVENT
DTSTART;TZID=UTC:20260429T133000
DTEND;TZID=UTC:20260429T133000
DTSTAMP:20260425T135214
CREATED:20260403T113519Z
LAST-MODIFIED:20260403T113519Z
UID:3659-1777469400-1777469400@avtheusdenzolder.be
SUMMARY:Provinciaal Kampioenschap MOEV (Limb.)
DESCRIPTION:
URL:https://avtheusdenzolder.be/event/provinciaal-kampioenschap-moev-limb/
CATEGORIES:Interne wedstrijden
END:VEVENT
BEGIN:VEVENT
DTSTART;TZID=UTC:20260510T100000
DTEND;TZID=UTC:20260510T100000
DTSTAMP:20260425T135214
CREATED:20260403T113520Z
LAST-MODIFIED:20260403T113520Z
UID:3661-1778407200-1778407200@avtheusdenzolder.be
SUMMARY:BVV Cad/Sch J+M
DESCRIPTION:
URL:https://avtheusdenzolder.be/event/bvv-cad-sch-jm/
CATEGORIES:Interne wedstrijden
END:VEVENT
BEGIN:VEVENT
DTSTART;TZID=UTC:20260524T110000
DTEND;TZID=UTC:20260524T110000
DTSTAMP:20260425T135214
CREATED:20260403T113521Z
LAST-MODIFIED:20260403T113521Z
UID:3663-1779620400-1779620400@avtheusdenzolder.be
SUMMARY:KAN/BEN meeting
DESCRIPTION:
URL:https://avtheusdenzolder.be/event/kan-ben-meeting-2/
CATEGORIES:Interne wedstrijden
END:VEVENT
BEGIN:VEVENT
DTSTART;TZID=UTC:20260524T140000
DTEND;TZID=UTC:20260524T140000
DTSTAMP:20260425T135214
CREATED:20260403T113524Z
LAST-MODIFIED:20260403T113524Z
UID:3664-1779631200-1779631200@avtheusdenzolder.be
SUMMARY:Jeugdmeeting
DESCRIPTION:
URL:https://avtheusdenzolder.be/event/jeugdmeeting/
CATEGORIES:Interne wedstrijden
END:VEVENT
BEGIN:VEVENT
DTSTART;TZID=UTC:20260613T100000
DTEND;TZID=UTC:20260613T100000
DTSTAMP:20260425T135214
CREATED:20260403T113524Z
LAST-MODIFIED:20260403T113524Z
UID:3665-1781344800-1781344800@avtheusdenzolder.be
SUMMARY:KAN/BEN meeting
DESCRIPTION:
URL:https://avtheusdenzolder.be/event/kan-ben-meeting-3/
CATEGORIES:Interne wedstrijden
END:VEVENT
BEGIN:VEVENT
DTSTART;TZID=UTC:20260712T133000
DTEND;TZID=UTC:20260712T133000
DTSTAMP:20260425T135214
CREATED:20260403T113539Z
LAST-MODIFIED:20260403T113539Z
UID:3669-1783863000-1783863000@avtheusdenzolder.be
SUMMARY:Polsstokmeeting
DESCRIPTION:
URL:https://avtheusdenzolder.be/event/polsstokmeeting-3/
CATEGORIES:Interne wedstrijden
END:VEVENT
BEGIN:VEVENT
DTSTART;TZID=UTC:20260718T130000
DTEND;TZID=UTC:20260718T130000
DTSTAMP:20260425T135214
CREATED:20260403T113540Z
LAST-MODIFIED:20260403T113540Z
UID:3670-1784379600-1784379600@avtheusdenzolder.be
SUMMARY:Nacht van de Atletiek
DESCRIPTION:
URL:https://avtheusdenzolder.be/event/nacht-van-de-atletiek-2/
CATEGORIES:Interne wedstrijden
END:VEVENT
BEGIN:VEVENT
DTSTART;TZID=UTC:20260729T133000
DTEND;TZID=UTC:20260729T133000
DTSTAMP:20260425T135214
CREATED:20260403T113540Z
LAST-MODIFIED:20260403T113540Z
UID:3672-1785331800-1785331800@avtheusdenzolder.be
SUMMARY:Jeugdmeeting
DESCRIPTION:
URL:https://avtheusdenzolder.be/event/jeugdmeeting-3/
CATEGORIES:Interne wedstrijden
END:VEVENT
BEGIN:VEVENT
DTSTART;TZID=UTC:20260816T133000
DTEND;TZID=UTC:20260816T133000
DTSTAMP:20260425T135214
CREATED:20260403T113540Z
LAST-MODIFIED:20260403T113540Z
UID:3673-1786887000-1786887000@avtheusdenzolder.be
SUMMARY:Open meeting
DESCRIPTION:
URL:https://avtheusdenzolder.be/event/open-meeting-8/
CATEGORIES:Interne wedstrijden
END:VEVENT
BEGIN:VEVENT
DTSTART;TZID=UTC:20260822T133000
DTEND;TZID=UTC:20260822T133000
DTSTAMP:20260425T135214
CREATED:20260403T113554Z
LAST-MODIFIED:20260403T113554Z
UID:3674-1787405400-1787405400@avtheusdenzolder.be
SUMMARY:PK estafetten
DESCRIPTION:
URL:https://avtheusdenzolder.be/event/pk-estafetten/
CATEGORIES:Interne wedstrijden
END:VEVENT
END:VCALENDAR