BEGIN:VCALENDAR
VERSION:2.0
PRODID:-//AVT Heusden-Zolder - ECPv6.6.1//NONSGML v1.0//EN
CALSCALE:GREGORIAN
METHOD:PUBLISH
X-ORIGINAL-URL:https://avtheusdenzolder.be
X-WR-CALDESC:Evenementen voor AVT Heusden-Zolder
REFRESH-INTERVAL;VALUE=DURATION:PT1H
X-Robots-Tag:noindex
X-PUBLISHED-TTL:PT1H
BEGIN:VTIMEZONE
TZID:UTC
BEGIN:STANDARD
TZOFFSETFROM:+0000
TZOFFSETTO:+0000
TZNAME:UTC
DTSTART:20260101T000000
END:STANDARD
END:VTIMEZONE
BEGIN:VEVENT
DTSTART;TZID=UTC:20260315T080000
DTEND;TZID=UTC:20260315T080000
DTSTAMP:20260425T111721
CREATED:20251021T074339Z
LAST-MODIFIED:20260226T174206Z
UID:3403-1773561600-1773561600@avtheusdenzolder.be
SUMMARY:VijverRun33
DESCRIPTION:
URL:https://avtheusdenzolder.be/event/vijverrun33-3/
CATEGORIES:Externe wedstrijden
END:VEVENT
END:VCALENDAR