BEGIN:VCALENDAR
VERSION:2.0
PRODID:-//AVT Heusden-Zolder - ECPv6.6.1//NONSGML v1.0//EN
CALSCALE:GREGORIAN
METHOD:PUBLISH
X-ORIGINAL-URL:https://avtheusdenzolder.be
X-WR-CALDESC:Evenementen voor AVT Heusden-Zolder
REFRESH-INTERVAL;VALUE=DURATION:PT1H
X-Robots-Tag:noindex
X-PUBLISHED-TTL:PT1H
BEGIN:VTIMEZONE
TZID:UTC
BEGIN:STANDARD
TZOFFSETFROM:+0000
TZOFFSETTO:+0000
TZNAME:UTC
DTSTART:20260101T000000
END:STANDARD
END:VTIMEZONE
BEGIN:VEVENT
DTSTART;TZID=UTC:20260701T180000
DTEND;TZID=UTC:20260701T180000
DTSTAMP:20260423T142336
CREATED:20260403T113540Z
LAST-MODIFIED:20260403T113540Z
UID:3671-1782928800-1782928800@avtheusdenzolder.be
SUMMARY:Einde schooljaar training
DESCRIPTION:Training in het thema vakantie\, met water dat geen zweet is. Op het einde wacht nog een lekkere verkoelende verrassing!
URL:https://avtheusdenzolder.be/event/einde-schooljaar-training/
CATEGORIES:Thematrainingen
END:VEVENT
BEGIN:VEVENT
DTSTART;TZID=UTC:20261030T180000
DTEND;TZID=UTC:20261030T180000
DTSTAMP:20260423T142336
CREATED:20260403T113609Z
LAST-MODIFIED:20260403T113609Z
UID:3679-1793383200-1793383200@avtheusdenzolder.be
SUMMARY:Halloween training
DESCRIPTION:Training in het thema Halloweeen\, griezelige training waar je verkleed mag komen. Soep en warme drankjes verkrijgbaar.
URL:https://avtheusdenzolder.be/event/halloween-training-3/
CATEGORIES:Thematrainingen
END:VEVENT
END:VCALENDAR