BEGIN:VCALENDAR
VERSION:2.0
PRODID:-//AVT Heusden-Zolder - ECPv6.6.1//NONSGML v1.0//EN
CALSCALE:GREGORIAN
METHOD:PUBLISH
X-WR-CALNAME:AVT Heusden-Zolder
X-ORIGINAL-URL:https://avtheusdenzolder.be
X-WR-CALDESC:Evenementen voor AVT Heusden-Zolder
REFRESH-INTERVAL;VALUE=DURATION:PT1H
X-Robots-Tag:noindex
X-PUBLISHED-TTL:PT1H
BEGIN:VTIMEZONE
TZID:UTC
BEGIN:STANDARD
TZOFFSETFROM:+0000
TZOFFSETTO:+0000
TZNAME:UTC
DTSTART:20250101T000000
END:STANDARD
END:VTIMEZONE
BEGIN:VEVENT
DTSTART;TZID=UTC:20260408T180000
DTEND;TZID=UTC:20260408T180000
DTSTAMP:20260423T154310
CREATED:20251021T074353Z
LAST-MODIFIED:20251021T074353Z
UID:3406-1775671200-1775671200@avtheusdenzolder.be
SUMMARY:Paastraining
DESCRIPTION:Training in het thema pasen (niet godsdienstig)\, waar de jeugd leren lopen en springen als een haas. Op het einde wacht hun nog een lekkere verrassing!
URL:https://avtheusdenzolder.be/event/paastraining-2/
CATEGORIES:Thematrainingen
END:VEVENT
BEGIN:VEVENT
DTSTART;TZID=UTC:20260213T180000
DTEND;TZID=UTC:20260213T180000
DTSTAMP:20260423T154310
CREATED:20251021T074324Z
LAST-MODIFIED:20251021T074324Z
UID:3399-1771005600-1771005600@avtheusdenzolder.be
SUMMARY:Carnaval training
DESCRIPTION:Training in het thema carnaval\, waar men verkleed naartoe mag komen en wat gekker doen!
URL:https://avtheusdenzolder.be/event/carnaval-training-2/
CATEGORIES:Thematrainingen
END:VEVENT
BEGIN:VEVENT
DTSTART;TZID=UTC:20251205T180000
DTEND;TZID=UTC:20251205T180000
DTSTAMP:20260423T154310
CREATED:20251021T074305Z
LAST-MODIFIED:20251021T074305Z
UID:3387-1764957600-1764957600@avtheusdenzolder.be
SUMMARY:Sinterklaas training
DESCRIPTION:Training in Sinterklaas thema. Trainen zoals sinterklaas en zwarte piet. Door schuif systeem met spelletjes.\nKindjes krijgen klein zakje snoep. Sint komt op bezoek!
URL:https://avtheusdenzolder.be/event/sinterklaas-training-2/
CATEGORIES:Thematrainingen
END:VEVENT
BEGIN:VEVENT
DTSTART;TZID=UTC:20251031T174500
DTEND;TZID=UTC:20251031T174500
DTSTAMP:20260423T154310
CREATED:20250328T144450Z
LAST-MODIFIED:20250401T142933Z
UID:2965-1761932700-1761932700@avtheusdenzolder.be
SUMMARY:Halloween training
DESCRIPTION:Training in het thema Halloweeen\, griezelige training waar je verkleed mag komen. Soep en warme drankjes verkrijgbaar.
URL:https://avtheusdenzolder.be/event/halloween-training-2/
CATEGORIES:Thematrainingen
END:VEVENT
BEGIN:VEVENT
DTSTART;TZID=UTC:20250627T174500
DTEND;TZID=UTC:20250627T174500
DTSTAMP:20260423T154310
CREATED:20250328T144450Z
LAST-MODIFIED:20250401T142933Z
UID:2964-1751046300-1751046300@avtheusdenzolder.be
SUMMARY:Zomervakantie training
DESCRIPTION:Training in het thema vakantie\, met water dat geen zweet is. Op het einde wacht nog een lekkere verkoelende verrassing!
URL:https://avtheusdenzolder.be/event/zomervakantie-training/
CATEGORIES:Thematrainingen
END:VEVENT
BEGIN:VEVENT
DTSTART;TZID=UTC:20250425T174500
DTEND;TZID=UTC:20250425T184500
DTSTAMP:20260423T154310
CREATED:20250304T140510Z
LAST-MODIFIED:20250420T192409Z
UID:2844-1745603100-1745606700@avtheusdenzolder.be
SUMMARY:Carnaval training (geannuleerd)
DESCRIPTION:Thematische carnaval training\, kom verkleed en het wordt extra leuk!Wegens de voorbereiding van de Beker van Vlaanderen gaat de Carnaval training helaas niet door.
URL:https://avtheusdenzolder.be/event/carnaval-training/
CATEGORIES:Thematrainingen
END:VEVENT
BEGIN:VEVENT
DTSTART;TZID=UTC:20250418T174500
DTEND;TZID=UTC:20250418T184500
DTSTAMP:20260423T154310
CREATED:20240409T063821Z
LAST-MODIFIED:20250402T080326Z
UID:1873-1744998300-1745001900@avtheusdenzolder.be
SUMMARY:Paas training
DESCRIPTION:Vrijdag is er een paastraining voorzien voor de Kangoeroes\, Benjamins en Pupillen groepen met na de training een lekkere verrassing voor onze sportieve atleetjes. Tot dan!
URL:https://avtheusdenzolder.be/event/paastraining/
CATEGORIES:Activiteiten,Thematrainingen
END:VEVENT
END:VCALENDAR