BEGIN:VCALENDAR
VERSION:2.0
PRODID:-//AVT Heusden-Zolder - ECPv6.6.1//NONSGML v1.0//EN
CALSCALE:GREGORIAN
METHOD:PUBLISH
X-WR-CALNAME:AVT Heusden-Zolder
X-ORIGINAL-URL:https://avtheusdenzolder.be
X-WR-CALDESC:Evenementen voor AVT Heusden-Zolder
REFRESH-INTERVAL;VALUE=DURATION:PT1H
X-Robots-Tag:noindex
X-PUBLISHED-TTL:PT1H
BEGIN:VTIMEZONE
TZID:UTC
BEGIN:STANDARD
TZOFFSETFROM:+0000
TZOFFSETTO:+0000
TZNAME:UTC
DTSTART:20260101T000000
END:STANDARD
END:VTIMEZONE
BEGIN:VEVENT
DTSTART;TZID=UTC:20260408T180000
DTEND;TZID=UTC:20260408T180000
DTSTAMP:20260425T123138
CREATED:20251021T074353Z
LAST-MODIFIED:20251021T074353Z
UID:3406-1775671200-1775671200@avtheusdenzolder.be
SUMMARY:Paastraining
DESCRIPTION:Training in het thema pasen (niet godsdienstig)\, waar de jeugd leren lopen en springen als een haas. Op het einde wacht hun nog een lekkere verrassing!
URL:https://avtheusdenzolder.be/event/paastraining-2/
CATEGORIES:Thematrainingen
END:VEVENT
END:VCALENDAR