BEGIN:VCALENDAR
VERSION:2.0
PRODID:-//AVT Heusden-Zolder - ECPv6.6.1//NONSGML v1.0//EN
CALSCALE:GREGORIAN
METHOD:PUBLISH
X-ORIGINAL-URL:https://avtheusdenzolder.be
X-WR-CALDESC:Evenementen voor AVT Heusden-Zolder
REFRESH-INTERVAL;VALUE=DURATION:PT1H
X-Robots-Tag:noindex
X-PUBLISHED-TTL:PT1H
BEGIN:VTIMEZONE
TZID:UTC
BEGIN:STANDARD
TZOFFSETFROM:+0000
TZOFFSETTO:+0000
TZNAME:UTC
DTSTART:20250101T000000
END:STANDARD
END:VTIMEZONE
BEGIN:VEVENT
DTSTART;TZID=UTC:20251116T180000
DTEND;TZID=UTC:20251116T180000
DTSTAMP:20260425T111654
CREATED:20251021T074305Z
LAST-MODIFIED:20251021T074305Z
UID:3386-1763316000-1763316000@avtheusdenzolder.be
SUMMARY:Eetdag
DESCRIPTION:Trainers delen kaarten uit aan atleten. Extra kaarten kan je afhalen aan de toog of digitaal\, bestelling kan je doen tot de week ervoor.
URL:https://avtheusdenzolder.be/event/eetdag-2/
CATEGORIES:Algemene activiteiten
END:VEVENT
END:VCALENDAR