BEGIN:VCALENDAR
VERSION:2.0
PRODID:-//AVT Heusden-Zolder - ECPv6.6.1//NONSGML v1.0//EN
CALSCALE:GREGORIAN
METHOD:PUBLISH
X-WR-CALNAME:AVT Heusden-Zolder
X-ORIGINAL-URL:https://avtheusdenzolder.be
X-WR-CALDESC:Evenementen voor AVT Heusden-Zolder
REFRESH-INTERVAL;VALUE=DURATION:PT1H
X-Robots-Tag:noindex
X-PUBLISHED-TTL:PT1H
BEGIN:VTIMEZONE
TZID:UTC
BEGIN:STANDARD
TZOFFSETFROM:+0000
TZOFFSETTO:+0000
TZNAME:UTC
DTSTART:20250101T000000
END:STANDARD
END:VTIMEZONE
BEGIN:VEVENT
DTSTART;TZID=UTC:20251003T180000
DTEND;TZID=UTC:20251003T190000
DTSTAMP:20260425T123118
CREATED:20250328T144215Z
LAST-MODIFIED:20250925T105804Z
UID:2944-1759514400-1759518000@avtheusdenzolder.be
SUMMARY:Infoavond
DESCRIPTION:Einde van de proefmaand organiseren we een infoavond waar ouders gedetaileerd worden ingelicht over het inschrijven en de toekomst. Eventuele vragen kunnen hier worden beantwoord. Training wordt hierdoor afgelast!
URL:https://avtheusdenzolder.be/event/infoavond/
CATEGORIES:Kern activiteiten
END:VEVENT
BEGIN:VEVENT
DTSTART;TZID=UTC:20250903T174500
DTEND;TZID=UTC:20250903T174500
DTSTAMP:20260425T123118
CREATED:20250328T144215Z
LAST-MODIFIED:20250402T080551Z
UID:2943-1756921500-1756921500@avtheusdenzolder.be
SUMMARY:Start probeermaand
DESCRIPTION:
URL:https://avtheusdenzolder.be/event/start-probeermaand-2/
CATEGORIES:Kern activiteiten
END:VEVENT
BEGIN:VEVENT
DTSTART;TZID=UTC:20250707T000000
DTEND;TZID=UTC:20250707T000000
DTSTAMP:20260425T123118
CREATED:20250328T144215Z
LAST-MODIFIED:20250402T080551Z
UID:2942-1751846400-1751846400@avtheusdenzolder.be
SUMMARY:Start sportkamp atletiek
DESCRIPTION:
URL:https://avtheusdenzolder.be/event/start-sportkamp-atletiek/
CATEGORIES:Kern activiteiten
END:VEVENT
BEGIN:VEVENT
DTSTART;TZID=UTC:20250423T180000
DTEND;TZID=UTC:20250423T193000
DTSTAMP:20260425T123118
CREATED:20240809T143108Z
LAST-MODIFIED:20250404T132452Z
UID:2135-1745431200-1745436600@avtheusdenzolder.be
SUMMARY:Groepsfoto
DESCRIPTION:We groepsfoto’s maken en een foto van het hele AVT-Team! Doe iets AVT’erig aan zoals een wedstrijdtruitje of andere AVT kledij.
URL:https://avtheusdenzolder.be/event/groepsfoto/
CATEGORIES:Kern activiteiten
END:VEVENT
BEGIN:VEVENT
DTSTART;TZID=UTC:20250402T174500
DTEND;TZID=UTC:20250402T184500
DTSTAMP:20260425T123118
CREATED:20250304T140710Z
LAST-MODIFIED:20250329T164339Z
UID:2846-1743615900-1743619500@avtheusdenzolder.be
SUMMARY:Start probeermaand
DESCRIPTION:
URL:http://avthz.be/werking#proef-atletiek
CATEGORIES:Kern activiteiten
END:VEVENT
END:VCALENDAR